BEGIN:VCALENDAR
VERSION:2.0
PRODID:-//Meaux//NONSGML v1.0//EN
CALSCALE:GREGORIAN
METHOD:PUBLISH
X-ORIGINAL-URL:https://www.cathocoulommiers.fr
BEGIN:VEVENT
DTSTART;VALUE=DATE:20260602
DTEND;VALUE=DATE:20260602
DTSTAMP:20260425T162917Z
CREATED:20260425
LAST-MODIFIED:20260425
UID:69ecebddd7de1-meaux
SUMMARY:GROUPE BIBLIQUE
DESCRIPTION:GROUPE BIBLIQUE
URL:https://www.cathocoulommiers.fr/evenement/groupe-biblique-6/
END:VEVENT
END:VCALENDAR
