BEGIN:VCALENDAR
VERSION:2.0
PRODID:-//Meaux//NONSGML v1.0//EN
CALSCALE:GREGORIAN
METHOD:PUBLISH
X-ORIGINAL-URL:https://www.cathocoulommiers.fr
BEGIN:VEVENT
DTSTART;VALUE=DATE:20260514
DTEND;VALUE=DATE:20260514
DTSTAMP:20260425T163035Z
CREATED:20260425
LAST-MODIFIED:20260425
UID:69ecec2b428ec-meaux
SUMMARY:ROSAIRE AUX FLAMBEAUX\, Jeudi de l’Ascension
DESCRIPTION:ROSAIRE AUX FLAMBEAUX\, Jeudi de l’Ascension
URL:https://www.cathocoulommiers.fr/evenement/rosaire-aux-flambeaux-jeudi-de-lascension/
END:VEVENT
END:VCALENDAR
