BEGIN:VCALENDAR
VERSION:2.0
PRODID:-//Meaux//NONSGML v1.0//EN
CALSCALE:GREGORIAN
METHOD:PUBLISH
X-ORIGINAL-URL:https://www.cathocoulommiers.fr
BEGIN:VEVENT
DTSTART;VALUE=DATE:20260530
DTEND;VALUE=DATE:20260530
DTSTAMP:20260425T180149Z
CREATED:20260425
LAST-MODIFIED:20260425
UID:69ed018da738f-meaux
SUMMARY:CONCERT
DESCRIPTION:CONCERT
URL:https://www.cathocoulommiers.fr/evenement/concert/
END:VEVENT
END:VCALENDAR
