BEGIN:VCALENDAR
VERSION:2.0
PRODID:-//Meaux//NONSGML v1.0//EN
CALSCALE:GREGORIAN
METHOD:PUBLISH
X-ORIGINAL-URL:https://www.cathocoulommiers.fr
BEGIN:VEVENT
DTSTART;VALUE=DATE:20230815
DTEND;VALUE=DATE:20230815
DTSTAMP:20260424T181554Z
CREATED:20230706
LAST-MODIFIED:20230706
UID:69ebb35a3e128-meaux
SUMMARY:Fête de l'Assomption
DESCRIPTION:Fête de l'Assomption
URL:https://www.cathocoulommiers.fr/evenement/assomption-2023_agenda/
END:VEVENT
END:VCALENDAR
