BEGIN:VCALENDAR
VERSION:2.0
PRODID:-//Meaux//NONSGML v1.0//EN
CALSCALE:GREGORIAN
METHOD:PUBLISH
X-ORIGINAL-URL:https://www.cathocoulommiers.fr
BEGIN:VEVENT
DTSTART;VALUE=DATE:20230917
DTEND;VALUE=DATE:20230917
DTSTAMP:20260424T182806Z
CREATED:20230706
LAST-MODIFIED:20230706
UID:69ebb63686858-meaux
SUMMARY:Pèlerinage de Verdelot
DESCRIPTION:Pèlerinage de Verdelot
URL:https://www.cathocoulommiers.fr/evenement/pelerinage-verdelot-2023/
END:VEVENT
END:VCALENDAR
